BEGIN:VCALENDAR
VERSION:2.0
PRODID:-//AERI - ECPv6.15.20//NONSGML v1.0//EN
CALSCALE:GREGORIAN
METHOD:PUBLISH
X-ORIGINAL-URL:https://aeri.website
X-WR-CALDESC:Events for AERI
REFRESH-INTERVAL;VALUE=DURATION:PT1H
X-Robots-Tag:noindex
X-PUBLISHED-TTL:PT1H
BEGIN:VTIMEZONE
TZID:UTC
BEGIN:STANDARD
TZOFFSETFROM:+0000
TZOFFSETTO:+0000
TZNAME:UTC
DTSTART:20210101T000000
END:STANDARD
END:VTIMEZONE
BEGIN:VEVENT
DTSTART;TZID=UTC:20220716T200000
DTEND;TZID=UTC:20220716T210000
DTSTAMP:20260424T204714
CREATED:20220618T064020Z
LAST-MODIFIED:20220713T034529Z
UID:3047-1658001600-1658005200@aeri.website
SUMMARY:AERI PhD Wrap Up Party (Virtual)
DESCRIPTION:Abstract\nJoin fellow archival phd students as we chat about the latest updates in our phd/non phd lives\, reflect on interesting AERI talks\, and exchange tips and tricks on how to survive YET another year of study. If you’re looking for community or just want to catch up on AERI happenings with other doctoral students\, this is the group for you. \nFor call link\, subscribe to our listserv or join slack via: https://linktr.ee/archivesphd \nDetails\nTo confirm the date/time of this session in your timezone please use the following link: https://www.timeanddate.com/worldclock/fixedtime.html?msg=AERI+PhD+Wrap+Up+Party&iso=20220716T20&p1=1440&ah=1
URL:https://aeri.website/event/aeri-phd-wrap-up-party-virtual/
CATEGORIES:Virtual AERI 2022
END:VEVENT
END:VCALENDAR