BEGIN:VCALENDAR
VERSION:2.0
PRODID:-//AERI - ECPv6.15.20//NONSGML v1.0//EN
CALSCALE:GREGORIAN
METHOD:PUBLISH
X-WR-CALNAME:AERI
X-ORIGINAL-URL:https://aeri.website
X-WR-CALDESC:Events for AERI
REFRESH-INTERVAL;VALUE=DURATION:PT1H
X-Robots-Tag:noindex
X-PUBLISHED-TTL:PT1H
BEGIN:VTIMEZONE
TZID:UTC
BEGIN:STANDARD
TZOFFSETFROM:+0000
TZOFFSETTO:+0000
TZNAME:UTC
DTSTART:20200101T000000
END:STANDARD
END:VTIMEZONE
BEGIN:VEVENT
DTSTART;TZID=UTC:20210716T140000
DTEND;TZID=UTC:20210716T150000
DTSTAMP:20260425T212513
CREATED:20210605T161729Z
LAST-MODIFIED:20210624T155320Z
UID:2803-1626444000-1626447600@aeri.website
SUMMARY:Short Papers: Education
DESCRIPTION:SHORT PAPERS: THEME – EDUCATION\nChair: Karen Gracy \nRegister in advance for this meeting: https://us02web.zoom.us/meeting/register/tZUscuCvrT0rE9WeBtC4OXW2khVB0covvK-9  \nAfter registering\, you will receive a confirmation email containing information about joining the meeting.  \nPapers:\nGraduate Archival Education: Opportunities\, Challenges\, and Future Directions \nSpeakers:\n\nAlex Poole (Drexel University\, USA)\nJane Zhang (Catholic University of America\, USA)\nAshley Todd-Diaz (Towson University\, USA)\n\nAccessibility details:\nPowerPoint Slides \nAbstract:\nDrexel University’s College of Computing and Informatics (Alex Poole) in partnership with the Catholic University of America’s Department of Library and Information Science (Jane Zhang) has been awarded an IMLS Laura Bush 21st Century Librarian Program National Forum Grant. The research project\, “Exploring New Frontiers in 21st Century Archival Education\,” aims to explore the historical trajectory and current state of archival education and to build capacity in master’s level archival curriculum. As part of this research\, the project has collected comprehensive curriculum data from existing archival graduate programs and conducted semi-structured interviews of full-time tenure-track archives faculty listed in the Society of American Archivists’ (SAA) Directory of Archival Education (https://www2.archivists.org/dae). The former (curriculum data) sheds light on how archival education is currently taught in graduate programs in the context of the SAA Guidelines for A Graduate Programs in Archival Studies (GPAS) curriculum (https://www2.archivists.org/prof-education/graduate/gpas/curriculum). The latter (semi-structured interview data) helps explore the perspectives of current archival faculty regarding the biggest challenges facing archival education and potential changes in the archival curriculum in the next decade. The proposed 20-minute paper presentation will discuss findings\, which\, collectively\, reflect the foundations we rely on\, obstacles we must overcome\, and directions we may move in to develop graduate archival curriculum to meet the needs of the 21st century archival education. \nWill this session be recorded for the AERI2021 Youtube channel? Yes \nEnacting Solidarity in the Archival Classroom \nSpeakers:\nMaggie Schreiner\, New York University \nAccessibility details:\nLive captioning\, alt text for images in slideshow. I will employ PowerPoint’s accessibility checker and accessible design best practices (font\, colors\, size\, and more). \nAbstract:\nOver the course of the Spring 2021 semester\, students in a “Community Archives” course in New York University’s Archives and Public History program engaged in a semester-long collaboration with CAAAV Organizing Asian Communities\, a grassroots community group that works to build power across diverse poor and working class Asian immigrant and refugee communities in New York City. The course\, which is cross-listed between the archives and public history tracks\, aims to provide students with a strong theoretical grounding in anti-racist\, community-based archival practice while directly engaging in the messiness and ethical complexity of community collaboration. \nCAAAV\, founded in 1986 as the Community Against Anti-Asian Violence\, initially focused on responding to the root causes of violence in 1980s and 1990s\, as well as opposing NYPD violence against all People of Color in NYC. Taught during a dramatic and frightening rise in anti-Asian violence\, the course used CAAAV’s informal archive to contextualize present-day events within a long history of anti-Asian violence and community responses in NYC and beyond. This presentation will provide a case study on uniting social movement and mutual aid solidarities with archival pedagogy in the classroom to teach students how archives can be impactful tools for liberation\, while simultaneously providing direct support to grassroots campaigns for racial and economic justice. \nWill this session be recorded for the AERI2021 Youtube channel? Yes
URL:https://aeri.website/event/short-papers-education/
CATEGORIES:Virtual AERI 2021
END:VEVENT
BEGIN:VEVENT
DTSTART;TZID=UTC:20210716T150000
DTEND;TZID=UTC:20210716T170000
DTSTAMP:20260425T212513
CREATED:20210605T162139Z
LAST-MODIFIED:20210624T160340Z
UID:2805-1626447600-1626454800@aeri.website
SUMMARY:Workshop: Becoming and Archivist in a Time of Uncertainty and Unrest: Teaching Introduction to Archives Courses in the Current Climate
DESCRIPTION:WORKSHOP: ‘Becoming an Archivist in a Time of Uncertainty and Unrest’: Teaching Introduction to Archives Courses in the Current Climate\nRegistration Information:\nRegister for this session and receive additional information at this link: https://umd.zoom.us/webinar/register/WN_qbWZOljHSSahuK7vKmjKBQ. \nSpeakers:\n\nCaitlin Christian-Lamb (PhD Candidate and Instructor of Record\, University of Maryland College of Information Studies)\nMarika Cifor (Assistant Professor\, University of Washington Information School)\nChelsea Gunn (Teaching Assistant Professor\, University of Pittsburgh School of Computing and Information)\nAdam Kriesberg (Assistant Professor\, Simmons University School of Library and Information Science)\nJamie A. Lee (Assistant Professor and Director of Graduate Studies\, University of Arizona School of Information)\n\nAccessibility details:\nWe are aiming to use AI captioning on Zoom during the workshop. \nAbstract:\nThis workshop aims to address a central issue in the archival community\, and one which many AERI participants confront regularly: the question of how to prepare future archivists to enter the field. While discussions of what the balance between theory and hands-on practice should be in an introductory course\, how to craft critical and inclusive syllabi\, and how to include the multiplicity of key archival ideas remain central in the mind of archival instructors\, teaching in 2020 and 2021 has brought additional challenges: changing modes of instruction and/or assignments to incorporate an online-only environment\, how to best support students during a pandemic and a sustained period of police brutality and unrest\, and how to empower them to enter the profession equipped to confront the current challenges facing the field. Pandemic pedagogy itself offers a challenge for instructors\, requiring critical thinking through how to introduce a new cohort of archivists to the world they operate in. Drawing inspiration from the title of Punzalan’s (2017) open letter to archival students\, this workshop will consider how the COVID-19 pandemic has affected introductory archival pedagogy\, what’s changed and what may be worth holding on to when the crisis moves into its next phases. \nWorkshop speakers will introduce the major challenges of teaching introductory courses and discuss their own experiences\, followed by breakout room discussions and exercises designed to identify priorities in teaching introductory courses. Outcomes of the workshop include establishing an AERI syllabus repository and producing working documents such as crowdsourcing suggested modules\, readings\, and assignments for introduction to archives courses. The organizers of this workshop envision that this session could establish a regular\, ongoing conversation at AERI around introductory archival courses. \nWill this session be recorded for the AERI2021 YouTube channel?: Partially
URL:https://aeri.website/event/workshop-becoming-and-archivist-in-a-time-of-uncertainty-and-unrest-teaching-introduction-to-archives-courses-in-the-current-climate/
CATEGORIES:Virtual AERI 2021
END:VEVENT
BEGIN:VEVENT
DTSTART;TZID=UTC:20210716T170000
DTEND;TZID=UTC:20210716T180000
DTSTAMP:20260425T212513
CREATED:20210605T162253Z
LAST-MODIFIED:20210624T155753Z
UID:2807-1626454800-1626458400@aeri.website
SUMMARY:Short Papers: Education (II)
DESCRIPTION:SHORT PAPERS: THEME- EDUCATION\nChair: Kathy Carbone \nRegister in advance for this meeting:\nhttps://ucla.zoom.us/meeting/register/tJ0tdOigqzkrE9c1-kEfCuvehxDhTHpmMkg8 \nAfter registering\, you will receive a confirmation email containing information about joining the meeting. \n  \nPapers:\nCurricular and Experiential Impacts of the Public Broadcasting Preservation Fellowship  \nSpeakers:\n\nSarah Buchanan\, University of Missouri\nRebecca Benson\, University of Missouri\nEric Saxon\, University of Missouri\nAntanella Tirone\, University of Missouri\n\nAccessibility details:\nTranscribed\, captioned slides provided. \nAbstract:\nAudiovisual archiving is a national priority with a narrowing technical window of opportunity\, especially for audiotape material. GBH\, the Boston-based public broadcaster\, partnered five graduate archival education programs with a local public media station in order to both expand area representation in the American Archive of Public Broadcasting (AAPB) via original public media programs\, and to build audiovisual preservation capacity in the archives and records profession nationwide. Graduate students enrolled in the archival programs could complete a semester-long Fellowship in 2018. Faculty Advisors comprised a cohort of archival educators who each met regularly with the Fellows on their campus\, with a Host Mentor at the station\, and with a Local Mentor with AV expertise to establish equipment and space for inventorying\, cataloging\, digitizing\, and ingesting local media as a Special Collection in the AAPB – a collaboration between GBH and the Library of Congress. In addition to project documentation and demonstrations\, Fellows contributed to the development of lesson plans and curricula on audiovisual preservation in their MLIS degree program. On our campus the Fellowship coincided with the launch of new Archival Studies courses designed to meet students’ expanding career targets and programmatic guidelines of national organizations (SAA GPAS and ALA Standards\, and internationally the iSchools’ preservation of information goal). Audiovisual preservation and digitization therefore occupied from the outset a place of prominence in the Archival Studies curriculum that will form the core of discussion in this presentation\, and the Fellows’ input ensured that AV archives remain formative to subsequent students’ experience. The presentation will detail campus-specific contributions to the IMLS-funded partnership\, including hands-on skills development\, training webinars\, peer instruction workshops\, mentorship\, evaluation\, future planning\, collection growth\, and promotion of the primary sources made newly available for research. \nWill this session be recorded for the AERI2021 Youtube channel? Yes \n  \nThe Changing Nature of Archival Instruction: Preparing Archivists and Faculty to Promote Student Learning Through Sustained Collaborations \nSpeakers:\n\nPelle Tracey\, School of Information\, University of Michigan\nPatricia Garcia\, School of Information\, University of Michigan\n\nAbstract:\nThe pedagogical benefits of teaching and learning with primary sources are changing the nature of archival instruction and expanding the role of archivists in undergraduate education. However\, archivists report feeling unprepared for the changing nature of archival instruction and the growing expectation that they will support student learning. Thus\, as the role of archivists in undergraduate education continues to expand\, there is an increasing need to provide professional development opportunities that better prepare archivists to promote student learning and primary source instruction. In this paper\, we address the following research question: How does a sustained professional development experience influence how archivists see their role in teaching and learning with archives? In order to address this question\, we focus on the experiences of archivists who participated in the “[anonymized] Fellows Seminars\,” a five-year research project to develop effective pedagogical practices for undergraduates through sustained engagement between faculty and archivists. We recruited eight archivists to participate via two cohorts. We collected data using a semi-structured interview technique designed to gather qualitative data on broad areas of interest related to the archivists’ motivations for participating in the seminar\, views of faculty domain and archival expertise\, professional experiences interacting with faculty\, knowledge of teaching and learning with primary sources\, views on collaborative opportunities between archivists and faculty\, and general experience participating in the seminar. Our findings demonstrate that sustained professional development experiences between faculty and archivists affirmed the archivists’ professional expertise\, increased their pedagogical awareness\, and helped them gain a broader perspective on the impact of their archival work. Our findings also revealed the need to better account for power relations in faculty-archivist relationships when designing collaborative professional development opportunities. \nWill this session be recorded for the AERI2021 Youtube channel? Yes
URL:https://aeri.website/event/short-papers-education-2/
CATEGORIES:Virtual AERI 2021
END:VEVENT
BEGIN:VEVENT
DTSTART;TZID=UTC:20210716T180000
DTEND;TZID=UTC:20210716T190000
DTSTAMP:20260425T212513
CREATED:20210605T162905Z
LAST-MODIFIED:20210709T173405Z
UID:2810-1626458400-1626462000@aeri.website
SUMMARY:Short Papers: Affect and Emotion
DESCRIPTION:SHORT PAPERS: THEME- AFFECT AND EMOTION\nChair: Mario Ramirez \nRegister in advance for this meeting: \nhttps://ubc.zoom.us/meeting/register/u50kcu-hqzoqE9EtOCCgfDsnePbu4uRGHosJ \nAfter registering\, you will receive a confirmation email containing information about joining the meeting. \nPapers:\nEmotional Responses to Archival Work: Preliminary Findings \nSpeakers:\n\nChrista Sato (Social Work\, University of Toronto)\nHenria Aton (Information\, University of Toronto)\nWendy Duff (Dean and Professor\, Information\, University of Toronto)\n\nAccessibility details:\nWe do not have anything in mind but would like to do anything we can to maximise the accessibility of our paper presentation. \nAbstract:\nAs co-witnesses to the lives and stories they archive\, archivists and archival scholars have the potential to be deeply affected by records\, especially those containing emotionally challenging or sensitive accounts of human suffering and survival. Archiving such records is a productive and important endeavour that is vital to maintaining our collective history. Nevertheless\, the impact of such work on archivists has been largely neglected. In response to this issue\, in June 2019 Wendy Duff and Henria Aton carried out a pilot research project and presented results at AERI. \nIn 2020\, we began a three-year\, SSHRC-funded project in collaboration with the Faculty of Social Work at the University of Toronto (PIs: Wendy Duff and Cheryl Regehr). Drawing from expertise in both disciplines\, our research seeks to better understand how archivists are impacted by their work and how institutions support or fail to support their archival workers. The wider objectives of this research are to develop a theoretical model about archives\, emotions\, and trauma that is unique to archivists; to create open-access tools and educational materials; and to develop a training workshop for archival students and professionals. In our presentation for AERI 2020\, we will share preliminary results from interviews with archivists and discuss the experience of working across disciplines in order to produce broader and more rigorous scholarship. \n  \nExpanding Creatorship: Archival Affect and Networked Creation \nSpeaker:\nBethany Radcliff\, University of Michigan School of Information PhD student \nAccessibility details:\nAI captioning (via zoom)\, or whatever the preferred method is! And I will include alt-text for any images. \nAbstract:\nIn this work-in-progress paper presentation\, I will discuss my recent master’s report\, which I am revising into an article that I plan on submitting to a journal soon. I hope to invite feedback as I work on this revision. I will discuss the limitations of creatorship alongside archival power and lingering notions of neutrality obscure the nuanced\, creative\, and affective contributions of the archivist\, whose decisions influence the way collections come to exist as sources of information. Affect is a “force” that is “unruly\,” and is “deeply implicated in how we live\, form subjectivities\, connect and disconnect\, desire\, take action\, and practice difference\, identity\, and community” (Cifor 2021\, para. 1). Tracing affect and its movement into the archival realm\, I argue that the archivist’s creative contributions are recognized through an understanding of their affective experiences. Kathleen Stewart’s (2007) Ordinary Affects alongside feminist new materialist theory provides a framework for understanding affective experience in archival processing. This complicates creatorship\, making the archivist a co-creator in a network of creatorship which I argue is seen clearly through work in personal archives. Through interviews with six archivists who work at memory institutions at the University of Texas at Austin\, I learned that affective moments are interwoven in archival work\, and often contribute to the way a collection exists in the world\, but co-creative networks of creation complicate this. Bringing awareness to traumatic or sensitive affective experiences makes a place for training and protection in the archival profession. Better understanding the affective impact of archival collections and capturing this experience adds a meaningful layer to memory work. Recognizing affective experiences makes place for an archival future that pushes against the patriarchal power of archival authority and makes a place for preserving more fluid and diverse memories.
URL:https://aeri.website/event/short-papers-affect-and-emotion/
CATEGORIES:Virtual AERI 2021
END:VEVENT
BEGIN:VEVENT
DTSTART;TZID=UTC:20210716T190000
DTEND;TZID=UTC:20210716T210000
DTSTAMP:20260425T212513
CREATED:20210605T163351Z
LAST-MODIFIED:20210624T155419Z
UID:2812-1626462000-1626469200@aeri.website
SUMMARY:Panel: Community-Driven Archives Initiative: BIPOC and Queer Solidarity and Collective Power
DESCRIPTION:PANEL: Community-Driven Archives Initiative: BIPOC and Queer Solidarity and Collective Power\nPlease register in advance for this session:  https://asu.zoom.us/webinar/register/WN_HtDkc5eJRpOyHsSGrWxa0w \nAfter registering you will receive a confirmation email with details about joining the meeting. \nSpeakers:\n\nAlex Soto – Assistant Librarian\, Labriola National American Indian Data Center\, Arizona State University (ASU) Library\nNancy Godoy – Associate Archivist\, Chicano/a Research Collection\, and Interim Head of Archives\, Arizona State University (ASU) Library\nJessica Salow\, Project Archivist\, Community-Driven Archives Initiative\, Arizona State University (ASU) Library\nLourdes Pereira (Hia-Ced O’odham and Yoeme)\, ASU Student Archivist\, Labriola National American Indian Data Center\, Arizona State University (ASU) Library\n\nAccessibility details:\nWe’ll be using zoom to record our panel presentation. We’ll make sure the recording and powerpoint presentation meets ADA requirements. \nAbstract:\nArchival repositories in America\, especially in Arizona\, are dominated by white narratives that promote white supremacy\, settler colonialism\, and dehumanize Black\, Indigenous\, and People of Color (BIPOC) who have lived on this land for centuries. The Community-Driven Archives (CDA) Initiative and Labriola National American Indian Data Center at Arizona State University (ASU) Library is actively addressing inequities and erasure by empowering BIPOC and Queer communities through educational workshops and events. We promote life-long learning by showing people how to preserve their own history for future generations and create intergenerational and intersectional safe spaces that encourage community healing\, acknowledge historical trauma\, and begin to change patterns of anti-blackness\, racism\, homophobia\, and transphobia\, all products of colonialism within BIPOC and Queer communities. \nMoving beyond archival theory\, this presentation will share our lived experiences as BIPOC and/or Queer archivists at a predominately white academic institution as well as how we are decolonizing archives by promoting solidarity\, equity\, justice\, and sovereignty. Our CDA teams and community members are challenging the way historical records are created\, redefining what an archive is\, what should be included\, who should have access\, and how cultural protocols influence community archives. We seek to show how academic institutions can center community needs and knowledge\, implement CDA theory and practice\, and dismantle power structures that dehumanize BIPOC and Queer communities. \nWill this session be recorded for the AERI2021 Youtube channel? Yes
URL:https://aeri.website/event/panel-community-driven-archives-initiative-bipoc-and-queer-solidarity-and-collective-power/
CATEGORIES:Virtual AERI 2021
END:VEVENT
BEGIN:VEVENT
DTSTART;TZID=UTC:20210716T210000
DTEND;TZID=UTC:20210716T230000
DTSTAMP:20260425T212513
CREATED:20210605T163435Z
LAST-MODIFIED:20220618T075421Z
UID:2814-1626469200-1626476400@aeri.website
SUMMARY:EVWG Working Plenary
DESCRIPTION:Ethics and Values Working Group Plenary\nHere are the plenary Zoom meeting details: \nTopic: AERI EVWG Plenary \nTime: Jul 16\, 2021 09:00 PM Universal Time UTC \nJoin Zoom Meeting \nhttps://lsu.zoom.us/j/9903423084?pwd=MWlnSkxGeGJTcElLeGFVZW90bmJEUT09 \nMeeting ID: 990 342 3084 \nPasscode: AERI2021 \nOver the last several years\, the Ethics and Values Working Group has collaborated on the formation of codes of conduct and processes of care at AERI. While the last year has put a pause in this conversation\, we strongly feel that ethics and values are a priority for AERI and that the whole AERI community should have input in how these are expressed and enacted. While we do not expect to have any definitive answers by the end of Friday’s plenary\, we do hope that we can keep this conversation going towards tangible results. \nFor this plenary\, our plan is to have a wider discussion about AERI as an ethical and accountable community. To get this process started\, we will first discuss the existing materials that have been developed thus far\, most importantly the drafts of the Code of Conduct and Processes and Practices. If you can\, please take a look at these linked documents and please make any comments on them. This is a collaborative process\, and we welcome your input! \n 
URL:https://aeri.website/event/evwg-working-plenary/
CATEGORIES:Virtual AERI 2021
END:VEVENT
END:VCALENDAR